BEGIN:VCALENDAR
VERSION:2.0
PRODID:-//communityofcarend.com//NONSGML kigkonsult.se iCalcreator 2.30.10/
 /
CALSCALE:GREGORIAN
METHOD:PUBLISH
UID:90a7d387-8086-49a0-b87f-558355cd4207
X-WR-CALDESC:Low-impact exercise classes.
X-WR-RELCALID:4721193ab9f0651e3f7932efe14c9108
X-WR-TIMEZONE:America/Chicago
BEGIN:VTIMEZONE
TZID:America/Chicago
BEGIN:STANDARD
TZNAME:CST
DTSTART:20301103T020000
TZOFFSETFROM:-0500
TZOFFSETTO:-0600
RDATE:20311102T020000
END:STANDARD
BEGIN:DAYLIGHT
TZNAME:CDT
DTSTART:20300310T020000
TZOFFSETFROM:-0600
TZOFFSETTO:-0500
RDATE:20310309T020000
RDATE:20320314T020000
END:DAYLIGHT
END:VTIMEZONE
BEGIN:VEVENT
UID:4fac09fe-a498-4409-bdd9-e432b9e008f0
DTSTAMP:20260422T221100Z
DESCRIPTION:Low-impact exercise classes.
DTSTART;TZID=America/Chicago:20301122T103000
DTEND;TZID=America/Chicago:20301122T113000
LOCATION:Kindred City Hall
SUMMARY:Kindred Bone Builders
END:VEVENT
END:VCALENDAR
