BEGIN:VCALENDAR
VERSION:2.0
PRODID:-//communityofcarend.com//NONSGML kigkonsult.se iCalcreator 2.30.10/
 /
CALSCALE:GREGORIAN
METHOD:PUBLISH
UID:9a59af9f-cee4-4ec6-bee6-983228166c06
X-WR-CALDESC:Low-impact exercise classes.
X-WR-RELCALID:bbcc3897185768d8775ec433a2ef3ce3
X-WR-TIMEZONE:America/Chicago
BEGIN:VTIMEZONE
TZID:America/Chicago
BEGIN:STANDARD
TZNAME:CST
DTSTART:20301103T020000
TZOFFSETFROM:-0500
TZOFFSETTO:-0600
RDATE:20311102T020000
END:STANDARD
BEGIN:DAYLIGHT
TZNAME:CDT
DTSTART:20300310T020000
TZOFFSETFROM:-0600
TZOFFSETTO:-0500
RDATE:20310309T020000
RDATE:20320314T020000
END:DAYLIGHT
END:VTIMEZONE
BEGIN:VEVENT
UID:6be212ff-2743-42d2-8cdd-5eacec9ff6ca
DTSTAMP:20260422T220403Z
DESCRIPTION:Low-impact exercise classes.
DTSTART;TZID=America/Chicago:20301115T103000
DTEND;TZID=America/Chicago:20301115T113000
LOCATION:Kindred City Hall
SUMMARY:Kindred Bone Builders
END:VEVENT
END:VCALENDAR
