BEGIN:VCALENDAR
VERSION:2.0
PRODID:-//communityofcarend.com//NONSGML kigkonsult.se iCalcreator 2.30.10/
 /
CALSCALE:GREGORIAN
METHOD:PUBLISH
UID:7e96b19e-37e7-4936-8eeb-5c760f413b9d
X-WR-CALDESC:
X-WR-RELCALID:884c8d934f4413dfe00e597c96df70cd
X-WR-TIMEZONE:America/Chicago
BEGIN:VTIMEZONE
TZID:America/Chicago
BEGIN:STANDARD
TZNAME:CST
DTSTART:20301103T020000
TZOFFSETFROM:-0500
TZOFFSETTO:-0600
RDATE:20311102T020000
END:STANDARD
BEGIN:DAYLIGHT
TZNAME:CDT
DTSTART:20300310T020000
TZOFFSETFROM:-0600
TZOFFSETTO:-0500
RDATE:20310309T020000
RDATE:20320314T020000
END:DAYLIGHT
END:VTIMEZONE
BEGIN:VEVENT
UID:6775218a-1ab5-4134-8697-10ea77532b96
DTSTAMP:20260422T222002Z
DESCRIPTION:
DTSTART;TZID=America/Chicago:20301112T140000
DTEND;TZID=America/Chicago:20301112T150000
LOCATION:Casselton City Hall
SUMMARY:Casselton Bone Builders
END:VEVENT
END:VCALENDAR
