BEGIN:VCALENDAR
VERSION:2.0
PRODID:-//communityofcarend.com//NONSGML kigkonsult.se iCalcreator 2.30.10/
 /
CALSCALE:GREGORIAN
METHOD:PUBLISH
UID:9a373c35-4fad-4df7-9b14-4e6cc3bdf25e
X-WR-CALDESC:Bone Builder Exercise Class
X-WR-RELCALID:bc58457c2e33555a6fb12832755b20c1
X-WR-TIMEZONE:America/Chicago
BEGIN:VTIMEZONE
TZID:America/Chicago
BEGIN:STANDARD
TZNAME:CST
DTSTART:20301103T020000
TZOFFSETFROM:-0500
TZOFFSETTO:-0600
RDATE:20311102T020000
END:STANDARD
BEGIN:DAYLIGHT
TZNAME:CDT
DTSTART:20300310T020000
TZOFFSETFROM:-0600
TZOFFSETTO:-0500
RDATE:20310309T020000
RDATE:20320314T020000
END:DAYLIGHT
END:VTIMEZONE
BEGIN:VEVENT
UID:c2efb9ae-8178-432f-9c9c-2080eb86788f
DTSTAMP:20260422T221142Z
DESCRIPTION:Bone Builder Exercise Class
DTSTART;TZID=America/Chicago:20301107T100000
DTEND;TZID=America/Chicago:20301107T110000
LOCATION:Horace Senior Center
SUMMARY:Horace Bone Builders
END:VEVENT
END:VCALENDAR
