BEGIN:VCALENDAR
VERSION:2.0
PRODID:-//communityofcarend.com//NONSGML kigkonsult.se iCalcreator 2.30.10/
 /
CALSCALE:GREGORIAN
METHOD:PUBLISH
UID:14982977-d6db-4db4-959c-759eca6216ea
X-WR-CALDESC:Low-impact exercise classes.
X-WR-RELCALID:c1ffd80010a1200d8de8e0c0a9d6f887
X-WR-TIMEZONE:America/Chicago
BEGIN:VTIMEZONE
TZID:America/Chicago
BEGIN:STANDARD
TZNAME:CST
DTSTART:20291104T020000
TZOFFSETFROM:-0500
TZOFFSETTO:-0600
RDATE:20301103T020000
RDATE:20311102T020000
END:STANDARD
BEGIN:DAYLIGHT
TZNAME:CDT
DTSTART:20300310T020000
TZOFFSETFROM:-0600
TZOFFSETTO:-0500
RDATE:20310309T020000
RDATE:20320314T020000
END:DAYLIGHT
END:VTIMEZONE
BEGIN:VEVENT
UID:7ecf3628-9958-4655-ad35-41d56f576cab
DTSTAMP:20260422T220307Z
DESCRIPTION:Low-impact exercise classes.
DTSTART;TZID=America/Chicago:20301101T103000
DTEND;TZID=America/Chicago:20301101T113000
LOCATION:Kindred City Hall
SUMMARY:Kindred Bone Builders
END:VEVENT
END:VCALENDAR
