BEGIN:VCALENDAR
VERSION:2.0
PRODID:-//communityofcarend.com//NONSGML kigkonsult.se iCalcreator 2.30.10/
 /
CALSCALE:GREGORIAN
METHOD:PUBLISH
UID:011a72c5-5aa6-4f2a-8ea5-17650aff642d
X-WR-CALDESC:Bone Builder Exercise Class
X-WR-RELCALID:964a0117c6993eef73879fc849eed9f0
X-WR-TIMEZONE:America/Chicago
BEGIN:VTIMEZONE
TZID:America/Chicago
BEGIN:STANDARD
TZNAME:CST
DTSTART:20291104T020000
TZOFFSETFROM:-0500
TZOFFSETTO:-0600
RDATE:20301103T020000
RDATE:20311102T020000
END:STANDARD
BEGIN:DAYLIGHT
TZNAME:CDT
DTSTART:20300310T020000
TZOFFSETFROM:-0600
TZOFFSETTO:-0500
RDATE:20310309T020000
RDATE:20320314T020000
END:DAYLIGHT
END:VTIMEZONE
BEGIN:VEVENT
UID:3b0bf02a-6a69-4442-9d6f-b2d854802396
DTSTAMP:20260422T204439Z
DESCRIPTION:Bone Builder Exercise Class
DTSTART;TZID=America/Chicago:20301017T100000
DTEND;TZID=America/Chicago:20301017T110000
LOCATION:Horace Senior Center
SUMMARY:Horace Bone Builders
END:VEVENT
END:VCALENDAR
