BEGIN:VCALENDAR
VERSION:2.0
PRODID:-//communityofcarend.com//NONSGML kigkonsult.se iCalcreator 2.30.10/
 /
CALSCALE:GREGORIAN
METHOD:PUBLISH
UID:adc1cc2d-3f50-4328-80e4-ea09e22b311f
X-WR-CALDESC:
X-WR-RELCALID:ad142b6023eb6972424b59c6a8c03b00
X-WR-TIMEZONE:America/Chicago
BEGIN:VTIMEZONE
TZID:America/Chicago
BEGIN:STANDARD
TZNAME:CST
DTSTART:20291104T020000
TZOFFSETFROM:-0500
TZOFFSETTO:-0600
RDATE:20301103T020000
RDATE:20311102T020000
END:STANDARD
BEGIN:DAYLIGHT
TZNAME:CDT
DTSTART:20300310T020000
TZOFFSETFROM:-0600
TZOFFSETTO:-0500
RDATE:20310309T020000
RDATE:20320314T020000
END:DAYLIGHT
END:VTIMEZONE
BEGIN:VEVENT
UID:4154fc30-72c1-43b0-84a1-f6e5abf7dd78
DTSTAMP:20260422T205120Z
DESCRIPTION:
DTSTART;TZID=America/Chicago:20301015T140000
DTEND;TZID=America/Chicago:20301015T150000
LOCATION:Casselton City Hall
SUMMARY:Casselton Bone Builders
END:VEVENT
END:VCALENDAR
