BEGIN:VCALENDAR
VERSION:2.0
PRODID:-//communityofcarend.com//NONSGML kigkonsult.se iCalcreator 2.30.10/
 /
CALSCALE:GREGORIAN
METHOD:PUBLISH
UID:b4e13eef-eb88-406f-ab5f-c7759ba03f5c
X-WR-CALDESC:Bone Builder Exercise Class
X-WR-RELCALID:87766e2a0b06a40f136644465a2d75a0
X-WR-TIMEZONE:America/Chicago
BEGIN:VTIMEZONE
TZID:America/Chicago
BEGIN:STANDARD
TZNAME:CST
DTSTART:20291104T020000
TZOFFSETFROM:-0500
TZOFFSETTO:-0600
RDATE:20301103T020000
RDATE:20311102T020000
END:STANDARD
BEGIN:DAYLIGHT
TZNAME:CDT
DTSTART:20300310T020000
TZOFFSETFROM:-0600
TZOFFSETTO:-0500
RDATE:20310309T020000
RDATE:20320314T020000
END:DAYLIGHT
END:VTIMEZONE
BEGIN:VEVENT
UID:cb4e7fcc-c7a8-4816-9789-85cc188e017d
DTSTAMP:20260422T204438Z
DESCRIPTION:Bone Builder Exercise Class
DTSTART;TZID=America/Chicago:20301014T100000
DTEND;TZID=America/Chicago:20301014T110000
LOCATION:Horace Senior Center
SUMMARY:Horace Bone Builders
END:VEVENT
END:VCALENDAR
