BEGIN:VCALENDAR
VERSION:2.0
PRODID:-//communityofcarend.com//NONSGML kigkonsult.se iCalcreator 2.30.10/
 /
CALSCALE:GREGORIAN
METHOD:PUBLISH
UID:b33fd90d-677e-4769-b1c4-631dd21ed53e
X-WR-CALDESC:Low impact exercise class
X-WR-RELCALID:a6343338595a819f8fd3e8b1dbc1fa8d
X-WR-TIMEZONE:America/Chicago
BEGIN:VTIMEZONE
TZID:America/Chicago
BEGIN:STANDARD
TZNAME:CST
DTSTART:20291104T020000
TZOFFSETFROM:-0500
TZOFFSETTO:-0600
RDATE:20301103T020000
RDATE:20311102T020000
END:STANDARD
BEGIN:DAYLIGHT
TZNAME:CDT
DTSTART:20300310T020000
TZOFFSETFROM:-0600
TZOFFSETTO:-0500
RDATE:20310309T020000
RDATE:20320314T020000
END:DAYLIGHT
END:VTIMEZONE
BEGIN:VEVENT
UID:e5e1e897-3c93-4824-be9c-b9dfefd9e043
DTSTAMP:20260422T204226Z
DESCRIPTION:Low impact exercise class
DTSTART;TZID=America/Chicago:20301007T103000
DTEND;TZID=America/Chicago:20301007T113000
LOCATION:Kindred City Hall
SUMMARY:Kindred Bone Builders
END:VEVENT
END:VCALENDAR
