BEGIN:VCALENDAR
VERSION:2.0
PRODID:-//communityofcarend.com//NONSGML kigkonsult.se iCalcreator 2.30.10/
 /
CALSCALE:GREGORIAN
METHOD:PUBLISH
UID:f2984c1f-fcbb-4681-82c8-92780dd173b0
X-WR-CALDESC:Low-impact exercise classes.
X-WR-RELCALID:24282fc4a967a37e0e704c330bc0e3cf
X-WR-TIMEZONE:America/Chicago
BEGIN:VTIMEZONE
TZID:America/Chicago
BEGIN:STANDARD
TZNAME:CST
DTSTART:20291104T020000
TZOFFSETFROM:-0500
TZOFFSETTO:-0600
RDATE:20301103T020000
RDATE:20311102T020000
END:STANDARD
BEGIN:DAYLIGHT
TZNAME:CDT
DTSTART:20300310T020000
TZOFFSETFROM:-0600
TZOFFSETTO:-0500
RDATE:20310309T020000
RDATE:20320314T020000
END:DAYLIGHT
END:VTIMEZONE
BEGIN:VEVENT
UID:278af8dc-47ce-4109-b5c1-80826847d3b7
DTSTAMP:20260422T191156Z
DESCRIPTION:Low-impact exercise classes.
DTSTART;TZID=America/Chicago:20300927T103000
DTEND;TZID=America/Chicago:20300927T113000
LOCATION:Kindred City Hall
SUMMARY:Kindred Bone Builders
END:VEVENT
END:VCALENDAR
