BEGIN:VCALENDAR
VERSION:2.0
PRODID:-//communityofcarend.com//NONSGML kigkonsult.se iCalcreator 2.30.10/
 /
CALSCALE:GREGORIAN
METHOD:PUBLISH
UID:631464ca-eb2c-4c4a-86f8-a8aa991fd23a
X-WR-CALDESC:Low-impact exercise classes.
X-WR-RELCALID:a109eb9bbf4c1a2f72cba4afa20daac7
X-WR-TIMEZONE:America/Chicago
BEGIN:VTIMEZONE
TZID:America/Chicago
BEGIN:STANDARD
TZNAME:CST
DTSTART:20291104T020000
TZOFFSETFROM:-0500
TZOFFSETTO:-0600
RDATE:20301103T020000
RDATE:20311102T020000
END:STANDARD
BEGIN:DAYLIGHT
TZNAME:CDT
DTSTART:20300310T020000
TZOFFSETFROM:-0600
TZOFFSETTO:-0500
RDATE:20310309T020000
END:DAYLIGHT
END:VTIMEZONE
BEGIN:VEVENT
UID:f02b19ae-3001-48c8-80b2-bc49e6ffd3df
DTSTAMP:20260422T174236Z
DESCRIPTION:Low-impact exercise classes.
DTSTART;TZID=America/Chicago:20300830T103000
DTEND;TZID=America/Chicago:20300830T113000
LOCATION:Kindred City Hall
SUMMARY:Kindred Bone Builders
END:VEVENT
END:VCALENDAR
