BEGIN:VCALENDAR
VERSION:2.0
PRODID:-//communityofcarend.com//NONSGML kigkonsult.se iCalcreator 2.30.10/
 /
CALSCALE:GREGORIAN
METHOD:PUBLISH
UID:5528e49d-415e-43e8-ad59-e3dfcaec688e
X-WR-CALDESC:Bone Builder Exercise Class
X-WR-RELCALID:a462bd3d3b14144020294e5faed18962
X-WR-TIMEZONE:America/Chicago
BEGIN:VTIMEZONE
TZID:America/Chicago
BEGIN:STANDARD
TZNAME:CST
DTSTART:20291104T020000
TZOFFSETFROM:-0500
TZOFFSETTO:-0600
RDATE:20301103T020000
RDATE:20311102T020000
END:STANDARD
BEGIN:DAYLIGHT
TZNAME:CDT
DTSTART:20300310T020000
TZOFFSETFROM:-0600
TZOFFSETTO:-0500
RDATE:20310309T020000
END:DAYLIGHT
END:VTIMEZONE
BEGIN:VEVENT
UID:e8840563-b6e2-4094-a916-0193e4a2acd2
DTSTAMP:20260422T174450Z
DESCRIPTION:Bone Builder Exercise Class
DTSTART;TZID=America/Chicago:20300826T100000
DTEND;TZID=America/Chicago:20300826T110000
LOCATION:Horace Senior Center
SUMMARY:Horace Bone Builders
END:VEVENT
END:VCALENDAR
