BEGIN:VCALENDAR
VERSION:2.0
PRODID:-//communityofcarend.com//NONSGML kigkonsult.se iCalcreator 2.30.10/
 /
CALSCALE:GREGORIAN
METHOD:PUBLISH
UID:2627eb99-7b13-4b2a-a9c2-7ffdbafd3b2e
X-WR-CALDESC:Bone Builder Exercise Class
X-WR-RELCALID:3e8e2a459ae4f89655d69c177da36ae4
X-WR-TIMEZONE:America/Chicago
BEGIN:VTIMEZONE
TZID:America/Chicago
BEGIN:STANDARD
TZNAME:CST
DTSTART:20291104T020000
TZOFFSETFROM:-0500
TZOFFSETTO:-0600
RDATE:20301103T020000
RDATE:20311102T020000
END:STANDARD
BEGIN:DAYLIGHT
TZNAME:CDT
DTSTART:20300310T020000
TZOFFSETFROM:-0600
TZOFFSETTO:-0500
RDATE:20310309T020000
END:DAYLIGHT
END:VTIMEZONE
BEGIN:VEVENT
UID:87849779-3b8d-408b-b63c-49678ccbd12d
DTSTAMP:20260422T174449Z
DESCRIPTION:Bone Builder Exercise Class
DTSTART;TZID=America/Chicago:20300822T100000
DTEND;TZID=America/Chicago:20300822T110000
LOCATION:Horace Senior Center
SUMMARY:Horace Bone Builders
END:VEVENT
END:VCALENDAR
