BEGIN:VCALENDAR
VERSION:2.0
PRODID:-//communityofcarend.com//NONSGML kigkonsult.se iCalcreator 2.30.10/
 /
CALSCALE:GREGORIAN
METHOD:PUBLISH
UID:808bfa91-88b7-4572-865a-dc3c09524e9d
X-WR-CALDESC:Bone Builder Exercise Class
X-WR-RELCALID:790c90198dd4ccfd188aeb7aec2d20ac
X-WR-TIMEZONE:America/Chicago
BEGIN:VTIMEZONE
TZID:America/Chicago
BEGIN:STANDARD
TZNAME:CST
DTSTART:20291104T020000
TZOFFSETFROM:-0500
TZOFFSETTO:-0600
RDATE:20301103T020000
RDATE:20311102T020000
END:STANDARD
BEGIN:DAYLIGHT
TZNAME:CDT
DTSTART:20300310T020000
TZOFFSETFROM:-0600
TZOFFSETTO:-0500
RDATE:20310309T020000
END:DAYLIGHT
END:VTIMEZONE
BEGIN:VEVENT
UID:f92421b6-cbc2-49e2-9cca-79c40bc0d840
DTSTAMP:20260422T175010Z
DESCRIPTION:Bone Builder Exercise Class
DTSTART;TZID=America/Chicago:20300819T100000
DTEND;TZID=America/Chicago:20300819T110000
LOCATION:Horace Senior Center
SUMMARY:Horace Bone Builders
END:VEVENT
END:VCALENDAR
