BEGIN:VCALENDAR
VERSION:2.0
PRODID:-//communityofcarend.com//NONSGML kigkonsult.se iCalcreator 2.30.10/
 /
CALSCALE:GREGORIAN
METHOD:PUBLISH
UID:f0ccc443-65af-4473-bc50-d32e430bdadf
X-WR-CALDESC:Bone Builder Exercise Class
X-WR-RELCALID:829185f8adbfafb463b0cd4917ef89f0
X-WR-TIMEZONE:America/Chicago
BEGIN:VTIMEZONE
TZID:America/Chicago
BEGIN:STANDARD
TZNAME:CST
DTSTART:20291104T020000
TZOFFSETFROM:-0500
TZOFFSETTO:-0600
RDATE:20301103T020000
RDATE:20311102T020000
END:STANDARD
BEGIN:DAYLIGHT
TZNAME:CDT
DTSTART:20300310T020000
TZOFFSETFROM:-0600
TZOFFSETTO:-0500
RDATE:20310309T020000
END:DAYLIGHT
END:VTIMEZONE
BEGIN:VEVENT
UID:0e857042-c7b5-4ad3-b444-a6fc31f4ff84
DTSTAMP:20260422T175346Z
DESCRIPTION:Bone Builder Exercise Class
DTSTART;TZID=America/Chicago:20300815T100000
DTEND;TZID=America/Chicago:20300815T110000
LOCATION:Horace Senior Center
SUMMARY:Horace Bone Builders
END:VEVENT
END:VCALENDAR
