BEGIN:VCALENDAR
VERSION:2.0
PRODID:-//communityofcarend.com//NONSGML kigkonsult.se iCalcreator 2.30.10/
 /
CALSCALE:GREGORIAN
METHOD:PUBLISH
UID:24fcf1d8-a3f2-4625-bb0e-97a939a50989
X-WR-CALDESC:Low impact exercise class
X-WR-RELCALID:cc05c548fa0221f81addb2d92a76ae66
X-WR-TIMEZONE:America/Chicago
BEGIN:VTIMEZONE
TZID:America/Chicago
BEGIN:STANDARD
TZNAME:CST
DTSTART:20291104T020000
TZOFFSETFROM:-0500
TZOFFSETTO:-0600
RDATE:20301103T020000
RDATE:20311102T020000
END:STANDARD
BEGIN:DAYLIGHT
TZNAME:CDT
DTSTART:20300310T020000
TZOFFSETFROM:-0600
TZOFFSETTO:-0500
RDATE:20310309T020000
END:DAYLIGHT
END:VTIMEZONE
BEGIN:VEVENT
UID:3fe70c15-3d55-4104-bfac-9fb441f109ee
DTSTAMP:20260422T174356Z
DESCRIPTION:Low impact exercise class
DTSTART;TZID=America/Chicago:20300805T103000
DTEND;TZID=America/Chicago:20300805T113000
LOCATION:Kindred City Hall
SUMMARY:Kindred Bone Builders
END:VEVENT
END:VCALENDAR
