BEGIN:VCALENDAR
VERSION:2.0
PRODID:-//communityofcarend.com//NONSGML kigkonsult.se iCalcreator 2.30.10/
 /
CALSCALE:GREGORIAN
METHOD:PUBLISH
UID:8061425f-90fd-4a46-97f0-a6e967f8be8e
X-WR-CALDESC:Low-impact exercise classes.
X-WR-RELCALID:b45f71949cbafb76eab11e78584757cc
X-WR-TIMEZONE:America/Chicago
BEGIN:VTIMEZONE
TZID:America/Chicago
BEGIN:STANDARD
TZNAME:CST
DTSTART:20291104T020000
TZOFFSETFROM:-0500
TZOFFSETTO:-0600
RDATE:20301103T020000
RDATE:20311102T020000
END:STANDARD
BEGIN:DAYLIGHT
TZNAME:CDT
DTSTART:20300310T020000
TZOFFSETFROM:-0600
TZOFFSETTO:-0500
RDATE:20310309T020000
END:DAYLIGHT
END:VTIMEZONE
BEGIN:VEVENT
UID:c4fdfc43-26be-4ff7-a908-380d0eaeb235
DTSTAMP:20260422T161522Z
DESCRIPTION:Low-impact exercise classes.
DTSTART;TZID=America/Chicago:20300726T103000
DTEND;TZID=America/Chicago:20300726T113000
LOCATION:Kindred City Hall
SUMMARY:Kindred Bone Builders
END:VEVENT
END:VCALENDAR
