BEGIN:VCALENDAR
VERSION:2.0
PRODID:-//communityofcarend.com//NONSGML kigkonsult.se iCalcreator 2.30.10/
 /
CALSCALE:GREGORIAN
METHOD:PUBLISH
UID:1af0a72c-a7e6-40e0-98d0-90c9c9aa9c2e
X-WR-CALDESC:Bone Builder Exercise Class
X-WR-RELCALID:7dd8130f4eee2396d71081e1d173f697
X-WR-TIMEZONE:America/Chicago
BEGIN:VTIMEZONE
TZID:America/Chicago
BEGIN:STANDARD
TZNAME:CST
DTSTART:20291104T020000
TZOFFSETFROM:-0500
TZOFFSETTO:-0600
RDATE:20301103T020000
RDATE:20311102T020000
END:STANDARD
BEGIN:DAYLIGHT
TZNAME:CDT
DTSTART:20300310T020000
TZOFFSETFROM:-0600
TZOFFSETTO:-0500
RDATE:20310309T020000
END:DAYLIGHT
END:VTIMEZONE
BEGIN:VEVENT
UID:09e9862f-1950-4e88-9036-fe2c3a79f656
DTSTAMP:20260422T161700Z
DESCRIPTION:Bone Builder Exercise Class
DTSTART;TZID=America/Chicago:20300725T100000
DTEND;TZID=America/Chicago:20300725T110000
LOCATION:Horace Senior Center
SUMMARY:Horace Bone Builders
END:VEVENT
END:VCALENDAR
