BEGIN:VCALENDAR
VERSION:2.0
PRODID:-//communityofcarend.com//NONSGML kigkonsult.se iCalcreator 2.30.10/
 /
CALSCALE:GREGORIAN
METHOD:PUBLISH
UID:91f1cbe6-4358-464e-8f26-6b6635ed5e3a
X-WR-CALDESC:Bone Builder Exercise Class
X-WR-RELCALID:81b675f4fcf59750b1dd504a53711879
X-WR-TIMEZONE:America/Chicago
BEGIN:VTIMEZONE
TZID:America/Chicago
BEGIN:STANDARD
TZNAME:CST
DTSTART:20291104T020000
TZOFFSETFROM:-0500
TZOFFSETTO:-0600
RDATE:20301103T020000
RDATE:20311102T020000
END:STANDARD
BEGIN:DAYLIGHT
TZNAME:CDT
DTSTART:20300310T020000
TZOFFSETFROM:-0600
TZOFFSETTO:-0500
RDATE:20310309T020000
END:DAYLIGHT
END:VTIMEZONE
BEGIN:VEVENT
UID:506ad5f5-e3f8-4b86-9e99-0e9085674e63
DTSTAMP:20260422T161532Z
DESCRIPTION:Bone Builder Exercise Class
DTSTART;TZID=America/Chicago:20300718T100000
DTEND;TZID=America/Chicago:20300718T110000
LOCATION:Horace Senior Center
SUMMARY:Horace Bone Builders
END:VEVENT
END:VCALENDAR
