BEGIN:VCALENDAR
VERSION:2.0
PRODID:-//communityofcarend.com//NONSGML kigkonsult.se iCalcreator 2.30.10/
 /
CALSCALE:GREGORIAN
METHOD:PUBLISH
UID:7d0746cb-bc85-41ba-b0f9-f35daeb7344b
X-WR-CALDESC:Low impact exercise class
X-WR-RELCALID:fb7d848a22a87435e30328e9d8fe07a1
X-WR-TIMEZONE:America/Chicago
BEGIN:VTIMEZONE
TZID:America/Chicago
BEGIN:STANDARD
TZNAME:CST
DTSTART:20291104T020000
TZOFFSETFROM:-0500
TZOFFSETTO:-0600
RDATE:20301103T020000
RDATE:20311102T020000
END:STANDARD
BEGIN:DAYLIGHT
TZNAME:CDT
DTSTART:20300310T020000
TZOFFSETFROM:-0600
TZOFFSETTO:-0500
RDATE:20310309T020000
END:DAYLIGHT
END:VTIMEZONE
BEGIN:VEVENT
UID:2f088443-b5e6-486d-804e-63cbf757dd00
DTSTAMP:20260422T161628Z
DESCRIPTION:Low impact exercise class
DTSTART;TZID=America/Chicago:20300715T103000
DTEND;TZID=America/Chicago:20300715T113000
LOCATION:Kindred City Hall
SUMMARY:Kindred Bone Builders
END:VEVENT
END:VCALENDAR
