BEGIN:VCALENDAR
VERSION:2.0
PRODID:-//communityofcarend.com//NONSGML kigkonsult.se iCalcreator 2.30.10/
 /
CALSCALE:GREGORIAN
METHOD:PUBLISH
UID:fe69624e-8c9b-4f46-ad93-b5d46de6e6cf
X-WR-CALDESC:
X-WR-RELCALID:b2ee36b3516bd10156cbde57a92b1360
X-WR-TIMEZONE:America/Chicago
BEGIN:VTIMEZONE
TZID:America/Chicago
BEGIN:STANDARD
TZNAME:CST
DTSTART:20291104T020000
TZOFFSETFROM:-0500
TZOFFSETTO:-0600
RDATE:20301103T020000
RDATE:20311102T020000
END:STANDARD
BEGIN:DAYLIGHT
TZNAME:CDT
DTSTART:20300310T020000
TZOFFSETFROM:-0600
TZOFFSETTO:-0500
RDATE:20310309T020000
END:DAYLIGHT
END:VTIMEZONE
BEGIN:VEVENT
UID:75eff17b-ee59-49e6-b480-7bd7eca88eea
DTSTAMP:20260422T161451Z
DESCRIPTION:
DTSTART;TZID=America/Chicago:20300715T100000
DTEND;TZID=America/Chicago:20300715T110000
LOCATION:Hunter Insurance  Building
SUMMARY:Hunter Bone Builders
END:VEVENT
END:VCALENDAR
