BEGIN:VCALENDAR
VERSION:2.0
PRODID:-//communityofcarend.com//NONSGML kigkonsult.se iCalcreator 2.30.10/
 /
CALSCALE:GREGORIAN
METHOD:PUBLISH
UID:4a9b7dbe-0d69-480b-81c5-df11a932aa7a
X-WR-CALDESC:Low-impact exercise classes.
X-WR-RELCALID:94eec457cc77728e9923f7a8c94e7f3c
X-WR-TIMEZONE:America/Chicago
BEGIN:VTIMEZONE
TZID:America/Chicago
BEGIN:STANDARD
TZNAME:CST
DTSTART:20291104T020000
TZOFFSETFROM:-0500
TZOFFSETTO:-0600
RDATE:20301103T020000
RDATE:20311102T020000
END:STANDARD
BEGIN:DAYLIGHT
TZNAME:CDT
DTSTART:20300310T020000
TZOFFSETFROM:-0600
TZOFFSETTO:-0500
RDATE:20310309T020000
END:DAYLIGHT
END:VTIMEZONE
BEGIN:VEVENT
UID:060ffec1-84d2-4e15-b128-89eec720ea92
DTSTAMP:20260422T161451Z
DESCRIPTION:Low-impact exercise classes.
DTSTART;TZID=America/Chicago:20300712T103000
DTEND;TZID=America/Chicago:20300712T113000
LOCATION:Kindred City Hall
SUMMARY:Kindred Bone Builders
END:VEVENT
END:VCALENDAR
