BEGIN:VCALENDAR
VERSION:2.0
PRODID:-//communityofcarend.com//NONSGML kigkonsult.se iCalcreator 2.30.10/
 /
CALSCALE:GREGORIAN
METHOD:PUBLISH
UID:679a8535-8f36-463a-ac82-467788318a09
X-WR-CALDESC:Low impact exercise class
X-WR-RELCALID:9581a6c7d828d35a548154313f3cdc94
X-WR-TIMEZONE:America/Chicago
BEGIN:VTIMEZONE
TZID:America/Chicago
BEGIN:STANDARD
TZNAME:CST
DTSTART:20291104T020000
TZOFFSETFROM:-0500
TZOFFSETTO:-0600
RDATE:20301103T020000
RDATE:20311102T020000
END:STANDARD
BEGIN:DAYLIGHT
TZNAME:CDT
DTSTART:20300310T020000
TZOFFSETFROM:-0600
TZOFFSETTO:-0500
RDATE:20310309T020000
END:DAYLIGHT
END:VTIMEZONE
BEGIN:VEVENT
UID:576bce8e-238e-44b8-a9e5-e8bcdeb351fc
DTSTAMP:20260422T161405Z
DESCRIPTION:Low impact exercise class
DTSTART;TZID=America/Chicago:20300708T103000
DTEND;TZID=America/Chicago:20300708T113000
LOCATION:Kindred City Hall
SUMMARY:Kindred Bone Builders
END:VEVENT
END:VCALENDAR
