BEGIN:VCALENDAR
VERSION:2.0
PRODID:-//communityofcarend.com//NONSGML kigkonsult.se iCalcreator 2.30.10/
 /
CALSCALE:GREGORIAN
METHOD:PUBLISH
UID:c5dbca49-ab10-488e-ac5f-bd2e36e28f44
X-WR-CALDESC:Bone Builder Exercise Class
X-WR-RELCALID:f51beb8be2791e4971b8e1accab88f1c
X-WR-TIMEZONE:America/Chicago
BEGIN:VTIMEZONE
TZID:America/Chicago
BEGIN:STANDARD
TZNAME:CST
DTSTART:20291104T020000
TZOFFSETFROM:-0500
TZOFFSETTO:-0600
RDATE:20301103T020000
RDATE:20311102T020000
END:STANDARD
BEGIN:DAYLIGHT
TZNAME:CDT
DTSTART:20300310T020000
TZOFFSETFROM:-0600
TZOFFSETTO:-0500
RDATE:20310309T020000
END:DAYLIGHT
END:VTIMEZONE
BEGIN:VEVENT
UID:ef4233db-2456-46cb-ab8e-af6576b8107e
DTSTAMP:20260424T082909Z
DESCRIPTION:Bone Builder Exercise Class
DTSTART;TZID=America/Chicago:20300627T100000
DTEND;TZID=America/Chicago:20300627T110000
LOCATION:Horace Senior Center
SUMMARY:Horace Bone Builders
END:VEVENT
END:VCALENDAR
