BEGIN:VCALENDAR
VERSION:2.0
PRODID:-//communityofcarend.com//NONSGML kigkonsult.se iCalcreator 2.30.10/
 /
CALSCALE:GREGORIAN
METHOD:PUBLISH
UID:ceae8cf2-acdc-4786-a572-bb960236dcfc
X-WR-CALDESC:Bone Builder Exercise Class
X-WR-RELCALID:baa71525579b75e3d95ac5f4dec93f17
X-WR-TIMEZONE:America/Chicago
BEGIN:VTIMEZONE
TZID:America/Chicago
BEGIN:STANDARD
TZNAME:CST
DTSTART:20291104T020000
TZOFFSETFROM:-0500
TZOFFSETTO:-0600
RDATE:20301103T020000
RDATE:20311102T020000
END:STANDARD
BEGIN:DAYLIGHT
TZNAME:CDT
DTSTART:20300310T020000
TZOFFSETFROM:-0600
TZOFFSETTO:-0500
RDATE:20310309T020000
END:DAYLIGHT
END:VTIMEZONE
BEGIN:VEVENT
UID:2455679d-434e-4ee8-b0c7-5a09ecb5fa03
DTSTAMP:20260422T145813Z
DESCRIPTION:Bone Builder Exercise Class
DTSTART;TZID=America/Chicago:20300617T100000
DTEND;TZID=America/Chicago:20300617T110000
LOCATION:Horace Senior Center
SUMMARY:Horace Bone Builders
END:VEVENT
END:VCALENDAR
