BEGIN:VCALENDAR
VERSION:2.0
PRODID:-//communityofcarend.com//NONSGML kigkonsult.se iCalcreator 2.30.10/
 /
CALSCALE:GREGORIAN
METHOD:PUBLISH
UID:f41a103a-9c69-4ebd-b6dd-02b9da4450b2
X-WR-CALDESC:Low-impact exercise classes.
X-WR-RELCALID:7f0ef3ba4ec849abee034cb89229e09c
X-WR-TIMEZONE:America/Chicago
BEGIN:VTIMEZONE
TZID:America/Chicago
BEGIN:STANDARD
TZNAME:CST
DTSTART:20291104T020000
TZOFFSETFROM:-0500
TZOFFSETTO:-0600
RDATE:20301103T020000
RDATE:20311102T020000
END:STANDARD
BEGIN:DAYLIGHT
TZNAME:CDT
DTSTART:20300310T020000
TZOFFSETFROM:-0600
TZOFFSETTO:-0500
RDATE:20310309T020000
END:DAYLIGHT
END:VTIMEZONE
BEGIN:VEVENT
UID:f2e267a6-c7b4-4983-b95e-c3aa4fcbbe55
DTSTAMP:20260422T145419Z
DESCRIPTION:Low-impact exercise classes.
DTSTART;TZID=America/Chicago:20300614T103000
DTEND;TZID=America/Chicago:20300614T113000
LOCATION:Kindred City Hall
SUMMARY:Kindred Bone Builders
END:VEVENT
END:VCALENDAR
