BEGIN:VCALENDAR
VERSION:2.0
PRODID:-//communityofcarend.com//NONSGML kigkonsult.se iCalcreator 2.30.10/
 /
CALSCALE:GREGORIAN
METHOD:PUBLISH
UID:dd4f5644-1258-4d3d-a1d6-86de8964dfa6
X-WR-CALDESC:Low impact exercise class
X-WR-RELCALID:d523d13bc934b9dc70fcf31a246064e6
X-WR-TIMEZONE:America/Chicago
BEGIN:VTIMEZONE
TZID:America/Chicago
BEGIN:STANDARD
TZNAME:CST
DTSTART:20291104T020000
TZOFFSETFROM:-0500
TZOFFSETTO:-0600
RDATE:20301103T020000
RDATE:20311102T020000
END:STANDARD
BEGIN:DAYLIGHT
TZNAME:CDT
DTSTART:20300310T020000
TZOFFSETFROM:-0600
TZOFFSETTO:-0500
RDATE:20310309T020000
END:DAYLIGHT
END:VTIMEZONE
BEGIN:VEVENT
UID:b6c66cc3-4d81-4646-ae67-bed7b47bd31c
DTSTAMP:20260422T132448Z
DESCRIPTION:Low impact exercise class
DTSTART;TZID=America/Chicago:20300527T103000
DTEND;TZID=America/Chicago:20300527T113000
LOCATION:Kindred City Hall
SUMMARY:Kindred Bone Builders
END:VEVENT
END:VCALENDAR
