BEGIN:VCALENDAR
VERSION:2.0
PRODID:-//communityofcarend.com//NONSGML kigkonsult.se iCalcreator 2.30.10/
 /
CALSCALE:GREGORIAN
METHOD:PUBLISH
UID:36d41154-3db3-459f-aa3b-a654bafbde0f
X-WR-CALDESC:Low impact exercise class
X-WR-RELCALID:9203aa25b6ec826730e7f5692a0a19ec
X-WR-TIMEZONE:America/Chicago
BEGIN:VTIMEZONE
TZID:America/Chicago
BEGIN:STANDARD
TZNAME:CST
DTSTART:20291104T020000
TZOFFSETFROM:-0500
TZOFFSETTO:-0600
RDATE:20301103T020000
RDATE:20311102T020000
END:STANDARD
BEGIN:DAYLIGHT
TZNAME:CDT
DTSTART:20300310T020000
TZOFFSETFROM:-0600
TZOFFSETTO:-0500
RDATE:20310309T020000
END:DAYLIGHT
END:VTIMEZONE
BEGIN:VEVENT
UID:c5f5f704-be7e-4b29-8aaa-48de570cc58d
DTSTAMP:20260422T132544Z
DESCRIPTION:Low impact exercise class
DTSTART;TZID=America/Chicago:20300520T103000
DTEND;TZID=America/Chicago:20300520T113000
LOCATION:Kindred City Hall
SUMMARY:Kindred Bone Builders
END:VEVENT
END:VCALENDAR
