BEGIN:VCALENDAR
VERSION:2.0
PRODID:-//communityofcarend.com//NONSGML kigkonsult.se iCalcreator 2.30.10/
 /
CALSCALE:GREGORIAN
METHOD:PUBLISH
UID:c1d2a4f9-a619-4628-a47d-da3f0142ee0f
X-WR-CALDESC:Bone Builder Exercise Class
X-WR-RELCALID:561a3e8731bbbb02080cd775cc22e179
X-WR-TIMEZONE:America/Chicago
BEGIN:VTIMEZONE
TZID:America/Chicago
BEGIN:STANDARD
TZNAME:CST
DTSTART:20291104T020000
TZOFFSETFROM:-0500
TZOFFSETTO:-0600
RDATE:20301103T020000
RDATE:20311102T020000
END:STANDARD
BEGIN:DAYLIGHT
TZNAME:CDT
DTSTART:20300310T020000
TZOFFSETFROM:-0600
TZOFFSETTO:-0500
RDATE:20310309T020000
END:DAYLIGHT
END:VTIMEZONE
BEGIN:VEVENT
UID:f2f94bf6-1803-4a94-a418-2212d95658ae
DTSTAMP:20260422T132611Z
DESCRIPTION:Bone Builder Exercise Class
DTSTART;TZID=America/Chicago:20300513T100000
DTEND;TZID=America/Chicago:20300513T110000
LOCATION:Horace Senior Center
SUMMARY:Horace Bone Builders
END:VEVENT
END:VCALENDAR
