BEGIN:VCALENDAR
VERSION:2.0
PRODID:-//communityofcarend.com//NONSGML kigkonsult.se iCalcreator 2.30.10/
 /
CALSCALE:GREGORIAN
METHOD:PUBLISH
UID:869e760c-a2a5-471c-8f45-a84d59bd9c90
X-WR-CALDESC:Bone Builder Exercise Class
X-WR-RELCALID:5078191ef694cdfedfaaa3828ed483f3
X-WR-TIMEZONE:America/Chicago
BEGIN:VTIMEZONE
TZID:America/Chicago
BEGIN:STANDARD
TZNAME:CST
DTSTART:20291104T020000
TZOFFSETFROM:-0500
TZOFFSETTO:-0600
RDATE:20301103T020000
RDATE:20311102T020000
END:STANDARD
BEGIN:DAYLIGHT
TZNAME:CDT
DTSTART:20300310T020000
TZOFFSETFROM:-0600
TZOFFSETTO:-0500
RDATE:20310309T020000
END:DAYLIGHT
END:VTIMEZONE
BEGIN:VEVENT
UID:bb5534ad-a5f5-47ab-b36f-e3cd19f4ed51
DTSTAMP:20260422T132553Z
DESCRIPTION:Bone Builder Exercise Class
DTSTART;TZID=America/Chicago:20300509T100000
DTEND;TZID=America/Chicago:20300509T110000
LOCATION:Horace Senior Center
SUMMARY:Horace Bone Builders
END:VEVENT
END:VCALENDAR
