BEGIN:VCALENDAR
VERSION:2.0
PRODID:-//communityofcarend.com//NONSGML kigkonsult.se iCalcreator 2.30.10/
 /
CALSCALE:GREGORIAN
METHOD:PUBLISH
UID:dc38fc75-8488-480f-b48b-9657dbac46d2
X-WR-CALDESC:Bone Builder Exercise Class
X-WR-RELCALID:1aa75f894bc4a166d46d6988b168a2e9
X-WR-TIMEZONE:America/Chicago
BEGIN:VTIMEZONE
TZID:America/Chicago
BEGIN:STANDARD
TZNAME:CST
DTSTART:20291104T020000
TZOFFSETFROM:-0500
TZOFFSETTO:-0600
RDATE:20301103T020000
END:STANDARD
BEGIN:DAYLIGHT
TZNAME:CDT
DTSTART:20300310T020000
TZOFFSETFROM:-0600
TZOFFSETTO:-0500
RDATE:20310309T020000
END:DAYLIGHT
END:VTIMEZONE
BEGIN:VEVENT
UID:6c4cbe3a-f943-44c1-9f92-e9ca42c49d39
DTSTAMP:20260422T114826Z
DESCRIPTION:Bone Builder Exercise Class
DTSTART;TZID=America/Chicago:20300429T100000
DTEND;TZID=America/Chicago:20300429T110000
LOCATION:Horace Senior Center
SUMMARY:Horace Bone Builders
END:VEVENT
END:VCALENDAR
