BEGIN:VCALENDAR
VERSION:2.0
PRODID:-//communityofcarend.com//NONSGML kigkonsult.se iCalcreator 2.30.10/
 /
CALSCALE:GREGORIAN
METHOD:PUBLISH
UID:90d6fe35-e60d-4d03-85af-dfc82d63492d
X-WR-CALDESC:Low-impact exercise classes.
X-WR-RELCALID:14a436c3b8b2d5e15390acf59436a897
X-WR-TIMEZONE:America/Chicago
BEGIN:VTIMEZONE
TZID:America/Chicago
BEGIN:STANDARD
TZNAME:CST
DTSTART:20291104T020000
TZOFFSETFROM:-0500
TZOFFSETTO:-0600
RDATE:20301103T020000
END:STANDARD
BEGIN:DAYLIGHT
TZNAME:CDT
DTSTART:20300310T020000
TZOFFSETFROM:-0600
TZOFFSETTO:-0500
RDATE:20310309T020000
END:DAYLIGHT
END:VTIMEZONE
BEGIN:VEVENT
UID:51015397-2e28-49cf-b6c7-b86b9f1c7f2a
DTSTAMP:20260422T114557Z
DESCRIPTION:Low-impact exercise classes.
DTSTART;TZID=America/Chicago:20300426T103000
DTEND;TZID=America/Chicago:20300426T113000
LOCATION:Kindred City Hall
SUMMARY:Kindred Bone Builders
END:VEVENT
END:VCALENDAR
