BEGIN:VCALENDAR
VERSION:2.0
PRODID:-//communityofcarend.com//NONSGML kigkonsult.se iCalcreator 2.30.10/
 /
CALSCALE:GREGORIAN
METHOD:PUBLISH
UID:649aca0e-2f4c-44e8-85c8-377b47c59253
X-WR-CALDESC:Bone Builder Exercise Class
X-WR-RELCALID:c98862ae112381c963694a101915a412
X-WR-TIMEZONE:America/Chicago
BEGIN:VTIMEZONE
TZID:America/Chicago
BEGIN:STANDARD
TZNAME:CST
DTSTART:20291104T020000
TZOFFSETFROM:-0500
TZOFFSETTO:-0600
RDATE:20301103T020000
END:STANDARD
BEGIN:DAYLIGHT
TZNAME:CDT
DTSTART:20300310T020000
TZOFFSETFROM:-0600
TZOFFSETTO:-0500
RDATE:20310309T020000
END:DAYLIGHT
END:VTIMEZONE
BEGIN:VEVENT
UID:f903b577-99a3-43cd-ae14-0aee75469ffc
DTSTAMP:20260422T114730Z
DESCRIPTION:Bone Builder Exercise Class
DTSTART;TZID=America/Chicago:20300425T100000
DTEND;TZID=America/Chicago:20300425T110000
LOCATION:Horace Senior Center
SUMMARY:Horace Bone Builders
END:VEVENT
END:VCALENDAR
