BEGIN:VCALENDAR
VERSION:2.0
PRODID:-//communityofcarend.com//NONSGML kigkonsult.se iCalcreator 2.30.10/
 /
CALSCALE:GREGORIAN
METHOD:PUBLISH
UID:80e91cd2-874d-4f8b-920a-04fdaf174b12
X-WR-CALDESC:Low-impact exercise classes.
X-WR-RELCALID:59e8e67bd93c64457932ea862710cce6
X-WR-TIMEZONE:America/Chicago
BEGIN:VTIMEZONE
TZID:America/Chicago
BEGIN:STANDARD
TZNAME:CST
DTSTART:20291104T020000
TZOFFSETFROM:-0500
TZOFFSETTO:-0600
RDATE:20301103T020000
END:STANDARD
BEGIN:DAYLIGHT
TZNAME:CDT
DTSTART:20300310T020000
TZOFFSETFROM:-0600
TZOFFSETTO:-0500
RDATE:20310309T020000
END:DAYLIGHT
END:VTIMEZONE
BEGIN:VEVENT
UID:b14e30a0-3072-4d2b-82f0-59826887a376
DTSTAMP:20260422T114658Z
DESCRIPTION:Low-impact exercise classes.
DTSTART;TZID=America/Chicago:20300419T103000
DTEND;TZID=America/Chicago:20300419T113000
LOCATION:Kindred City Hall
SUMMARY:Kindred Bone Builders
END:VEVENT
END:VCALENDAR
