BEGIN:VCALENDAR
VERSION:2.0
PRODID:-//communityofcarend.com//NONSGML kigkonsult.se iCalcreator 2.30.10/
 /
CALSCALE:GREGORIAN
METHOD:PUBLISH
UID:501d5036-1dc2-47c2-b527-dd231547078f
X-WR-CALDESC:Bone Builder Exercise Class
X-WR-RELCALID:237aea145f695b95f4f59df272abfa18
X-WR-TIMEZONE:America/Chicago
BEGIN:VTIMEZONE
TZID:America/Chicago
BEGIN:STANDARD
TZNAME:CST
DTSTART:20291104T020000
TZOFFSETFROM:-0500
TZOFFSETTO:-0600
RDATE:20301103T020000
END:STANDARD
BEGIN:DAYLIGHT
TZNAME:CDT
DTSTART:20300310T020000
TZOFFSETFROM:-0600
TZOFFSETTO:-0500
RDATE:20310309T020000
END:DAYLIGHT
END:VTIMEZONE
BEGIN:VEVENT
UID:5908fe36-6cbf-499d-bfe8-dd4d912ef699
DTSTAMP:20260422T114852Z
DESCRIPTION:Bone Builder Exercise Class
DTSTART;TZID=America/Chicago:20300418T100000
DTEND;TZID=America/Chicago:20300418T110000
LOCATION:Horace Senior Center
SUMMARY:Horace Bone Builders
END:VEVENT
END:VCALENDAR
