BEGIN:VCALENDAR
VERSION:2.0
PRODID:-//communityofcarend.com//NONSGML kigkonsult.se iCalcreator 2.30.10/
 /
CALSCALE:GREGORIAN
METHOD:PUBLISH
UID:68f8776c-4fde-4a00-a288-2bf9b7d51af6
X-WR-CALDESC:Low-impact exercise classes.
X-WR-RELCALID:d7f7bf81c1e370089a5fbfc73c642ddf
X-WR-TIMEZONE:America/Chicago
BEGIN:VTIMEZONE
TZID:America/Chicago
BEGIN:STANDARD
TZNAME:CST
DTSTART:20291104T020000
TZOFFSETFROM:-0500
TZOFFSETTO:-0600
RDATE:20301103T020000
END:STANDARD
BEGIN:DAYLIGHT
TZNAME:CDT
DTSTART:20300310T020000
TZOFFSETFROM:-0600
TZOFFSETTO:-0500
RDATE:20310309T020000
END:DAYLIGHT
END:VTIMEZONE
BEGIN:VEVENT
UID:72f5f3c7-300d-4e0e-a3d7-9bcac68f6db1
DTSTAMP:20260422T114718Z
DESCRIPTION:Low-impact exercise classes.
DTSTART;TZID=America/Chicago:20300412T103000
DTEND;TZID=America/Chicago:20300412T113000
LOCATION:Kindred City Hall
SUMMARY:Kindred Bone Builders
END:VEVENT
END:VCALENDAR
