BEGIN:VCALENDAR
VERSION:2.0
PRODID:-//communityofcarend.com//NONSGML kigkonsult.se iCalcreator 2.30.10/
 /
CALSCALE:GREGORIAN
METHOD:PUBLISH
UID:78674567-c709-4f93-9917-4810b7814bbb
X-WR-CALDESC:
X-WR-RELCALID:05961b4350d00282cdcdd775eac533dd
X-WR-TIMEZONE:America/Chicago
BEGIN:VTIMEZONE
TZID:America/Chicago
BEGIN:STANDARD
TZNAME:CST
DTSTART:20291104T020000
TZOFFSETFROM:-0500
TZOFFSETTO:-0600
RDATE:20301103T020000
END:STANDARD
BEGIN:DAYLIGHT
TZNAME:CDT
DTSTART:20300310T020000
TZOFFSETFROM:-0600
TZOFFSETTO:-0500
RDATE:20310309T020000
END:DAYLIGHT
END:VTIMEZONE
BEGIN:VEVENT
UID:b50ed960-424d-4713-b5f9-e54878fec9ee
DTSTAMP:20260422T115508Z
DESCRIPTION:
DTSTART;TZID=America/Chicago:20300411T100000
DTEND;TZID=America/Chicago:20300411T120000
LOCATION:
SUMMARY:C of Care Board Meeting
END:VEVENT
END:VCALENDAR
