BEGIN:VCALENDAR
VERSION:2.0
PRODID:-//communityofcarend.com//NONSGML kigkonsult.se iCalcreator 2.30.10/
 /
CALSCALE:GREGORIAN
METHOD:PUBLISH
UID:c69f4823-ab35-4ed3-a87c-a3e39755c9d6
X-WR-CALDESC:Bone Builder Exercise Class
X-WR-RELCALID:726183f181aa79a78eb8bfde89cffefc
X-WR-TIMEZONE:America/Chicago
BEGIN:VTIMEZONE
TZID:America/Chicago
BEGIN:STANDARD
TZNAME:CST
DTSTART:20291104T020000
TZOFFSETFROM:-0500
TZOFFSETTO:-0600
RDATE:20301103T020000
END:STANDARD
BEGIN:DAYLIGHT
TZNAME:CDT
DTSTART:20300310T020000
TZOFFSETFROM:-0600
TZOFFSETTO:-0500
RDATE:20310309T020000
END:DAYLIGHT
END:VTIMEZONE
BEGIN:VEVENT
UID:15ca7740-d475-468a-bbda-0e01fe19c425
DTSTAMP:20260422T114716Z
DESCRIPTION:Bone Builder Exercise Class
DTSTART;TZID=America/Chicago:20300408T100000
DTEND;TZID=America/Chicago:20300408T110000
LOCATION:Horace Senior Center
SUMMARY:Horace Bone Builders
END:VEVENT
END:VCALENDAR
