BEGIN:VCALENDAR
VERSION:2.0
PRODID:-//communityofcarend.com//NONSGML kigkonsult.se iCalcreator 2.30.10/
 /
CALSCALE:GREGORIAN
METHOD:PUBLISH
UID:3d9610a5-1334-4b14-8568-6b55477d199e
X-WR-CALDESC:Low-impact exercise classes.
X-WR-RELCALID:ceda94bdbe15614f160e06f907722e27
X-WR-TIMEZONE:America/Chicago
BEGIN:VTIMEZONE
TZID:America/Chicago
BEGIN:STANDARD
TZNAME:CST
DTSTART:20291104T020000
TZOFFSETFROM:-0500
TZOFFSETTO:-0600
RDATE:20301103T020000
END:STANDARD
BEGIN:DAYLIGHT
TZNAME:CDT
DTSTART:20300310T020000
TZOFFSETFROM:-0600
TZOFFSETTO:-0500
RDATE:20310309T020000
END:DAYLIGHT
END:VTIMEZONE
BEGIN:VEVENT
UID:ebd220d8-1113-4112-98c1-869d88e31345
DTSTAMP:20260422T114657Z
DESCRIPTION:Low-impact exercise classes.
DTSTART;TZID=America/Chicago:20300405T103000
DTEND;TZID=America/Chicago:20300405T113000
LOCATION:Kindred City Hall
SUMMARY:Kindred Bone Builders
END:VEVENT
END:VCALENDAR
