BEGIN:VCALENDAR
VERSION:2.0
PRODID:-//communityofcarend.com//NONSGML kigkonsult.se iCalcreator 2.30.10/
 /
CALSCALE:GREGORIAN
METHOD:PUBLISH
UID:4546b568-d6f1-4b18-95dd-43bdf65a075c
X-WR-CALDESC:Low impact exercise class
X-WR-RELCALID:bd76cbd81cf0042dd8a0c07775a3a6ac
X-WR-TIMEZONE:America/Chicago
BEGIN:VTIMEZONE
TZID:America/Chicago
BEGIN:STANDARD
TZNAME:CST
DTSTART:20291104T020000
TZOFFSETFROM:-0500
TZOFFSETTO:-0600
RDATE:20301103T020000
END:STANDARD
BEGIN:DAYLIGHT
TZNAME:CDT
DTSTART:20300310T020000
TZOFFSETFROM:-0600
TZOFFSETTO:-0500
RDATE:20310309T020000
END:DAYLIGHT
END:VTIMEZONE
BEGIN:VEVENT
UID:cd083bb3-651f-4233-a54d-3c1e0474cc09
DTSTAMP:20260422T114540Z
DESCRIPTION:Low impact exercise class
DTSTART;TZID=America/Chicago:20300401T103000
DTEND;TZID=America/Chicago:20300401T113000
LOCATION:Kindred City Hall
SUMMARY:Kindred Bone Builders
END:VEVENT
END:VCALENDAR
