BEGIN:VCALENDAR
VERSION:2.0
PRODID:-//communityofcarend.com//NONSGML kigkonsult.se iCalcreator 2.30.10/
 /
CALSCALE:GREGORIAN
METHOD:PUBLISH
UID:e332ec35-b364-4b59-b281-ebd116f105d2
X-WR-CALDESC:Low-impact exercise classes.
X-WR-RELCALID:6d5400abe003c9e102b0ef44ee6f1bcc
X-WR-TIMEZONE:America/Chicago
BEGIN:VTIMEZONE
TZID:America/Chicago
BEGIN:STANDARD
TZNAME:CST
DTSTART:20291104T020000
TZOFFSETFROM:-0500
TZOFFSETTO:-0600
RDATE:20301103T020000
END:STANDARD
BEGIN:DAYLIGHT
TZNAME:CDT
DTSTART:20300310T020000
TZOFFSETFROM:-0600
TZOFFSETTO:-0500
RDATE:20310309T020000
END:DAYLIGHT
END:VTIMEZONE
BEGIN:VEVENT
UID:6ea03a70-b62d-4b05-9902-af269cb1dbb6
DTSTAMP:20260422T101624Z
DESCRIPTION:Low-impact exercise classes.
DTSTART;TZID=America/Chicago:20300329T103000
DTEND;TZID=America/Chicago:20300329T113000
LOCATION:Kindred City Hall
SUMMARY:Kindred Bone Builders
END:VEVENT
END:VCALENDAR
