BEGIN:VCALENDAR
VERSION:2.0
PRODID:-//communityofcarend.com//NONSGML kigkonsult.se iCalcreator 2.30.10/
 /
CALSCALE:GREGORIAN
METHOD:PUBLISH
UID:75f449f7-fb55-4245-a1d1-ffeb09bdb125
X-WR-CALDESC:Bone Builder Exercise Class
X-WR-RELCALID:92c59d74580c4993337cb1ac5cb254dd
X-WR-TIMEZONE:America/Chicago
BEGIN:VTIMEZONE
TZID:America/Chicago
BEGIN:STANDARD
TZNAME:CST
DTSTART:20291104T020000
TZOFFSETFROM:-0500
TZOFFSETTO:-0600
RDATE:20301103T020000
END:STANDARD
BEGIN:DAYLIGHT
TZNAME:CDT
DTSTART:20300310T020000
TZOFFSETFROM:-0600
TZOFFSETTO:-0500
RDATE:20310309T020000
END:DAYLIGHT
END:VTIMEZONE
BEGIN:VEVENT
UID:91149197-49d8-4a18-b73e-c799c7b3f809
DTSTAMP:20260422T101705Z
DESCRIPTION:Bone Builder Exercise Class
DTSTART;TZID=America/Chicago:20300328T100000
DTEND;TZID=America/Chicago:20300328T110000
LOCATION:Horace Senior Center
SUMMARY:Horace Bone Builders
END:VEVENT
END:VCALENDAR
