BEGIN:VCALENDAR
VERSION:2.0
PRODID:-//communityofcarend.com//NONSGML kigkonsult.se iCalcreator 2.30.10/
 /
CALSCALE:GREGORIAN
METHOD:PUBLISH
UID:a19f5bc2-9b2e-43d4-a10b-1bfc4b2a1946
X-WR-CALDESC:
X-WR-RELCALID:b11bdddb9bd8827b05d5d556c1f15935
X-WR-TIMEZONE:America/Chicago
BEGIN:VTIMEZONE
TZID:America/Chicago
BEGIN:STANDARD
TZNAME:CST
DTSTART:20291104T020000
TZOFFSETFROM:-0500
TZOFFSETTO:-0600
RDATE:20301103T020000
END:STANDARD
BEGIN:DAYLIGHT
TZNAME:CDT
DTSTART:20300310T020000
TZOFFSETFROM:-0600
TZOFFSETTO:-0500
RDATE:20310309T020000
END:DAYLIGHT
END:VTIMEZONE
BEGIN:VEVENT
UID:04fc6dd3-cfc0-4dc2-a5c9-24628a27f66a
DTSTAMP:20260422T101656Z
DESCRIPTION:
DTSTART;TZID=America/Chicago:20300326T130000
DTEND;TZID=America/Chicago:20300326T140000
LOCATION:Harwood Community Center
SUMMARY:Harwood Bone Builders
END:VEVENT
END:VCALENDAR
