BEGIN:VCALENDAR
VERSION:2.0
PRODID:-//communityofcarend.com//NONSGML kigkonsult.se iCalcreator 2.30.10/
 /
CALSCALE:GREGORIAN
METHOD:PUBLISH
UID:db776499-a93b-4d32-8549-b3fd9b72b82b
X-WR-CALDESC:Bone Builder Exercise Class
X-WR-RELCALID:4cda7d4b76725f9911a9627e365d4adb
X-WR-TIMEZONE:America/Chicago
BEGIN:VTIMEZONE
TZID:America/Chicago
BEGIN:STANDARD
TZNAME:CST
DTSTART:20291104T020000
TZOFFSETFROM:-0500
TZOFFSETTO:-0600
RDATE:20301103T020000
END:STANDARD
BEGIN:DAYLIGHT
TZNAME:CDT
DTSTART:20300310T020000
TZOFFSETFROM:-0600
TZOFFSETTO:-0500
RDATE:20310309T020000
END:DAYLIGHT
END:VTIMEZONE
BEGIN:VEVENT
UID:2868e5b8-4185-4e2b-a322-67b4edcd5e2f
DTSTAMP:20260422T101700Z
DESCRIPTION:Bone Builder Exercise Class
DTSTART;TZID=America/Chicago:20300325T100000
DTEND;TZID=America/Chicago:20300325T110000
LOCATION:Horace Senior Center
SUMMARY:Horace Bone Builders
END:VEVENT
END:VCALENDAR
