BEGIN:VCALENDAR
VERSION:2.0
PRODID:-//communityofcarend.com//NONSGML kigkonsult.se iCalcreator 2.30.10/
 /
CALSCALE:GREGORIAN
METHOD:PUBLISH
UID:dc938ddc-5ebf-4bf5-9d5d-28aa05fef98f
X-WR-CALDESC:Low-impact exercise classes.
X-WR-RELCALID:cc9f4370a1da637b23c4cd99f6c831df
X-WR-TIMEZONE:America/Chicago
BEGIN:VTIMEZONE
TZID:America/Chicago
BEGIN:STANDARD
TZNAME:CST
DTSTART:20291104T020000
TZOFFSETFROM:-0500
TZOFFSETTO:-0600
RDATE:20301103T020000
END:STANDARD
BEGIN:DAYLIGHT
TZNAME:CDT
DTSTART:20300310T020000
TZOFFSETFROM:-0600
TZOFFSETTO:-0500
RDATE:20310309T020000
END:DAYLIGHT
END:VTIMEZONE
BEGIN:VEVENT
UID:6123961b-70f4-44d1-8343-538b8063736c
DTSTAMP:20260422T101703Z
DESCRIPTION:Low-impact exercise classes.
DTSTART;TZID=America/Chicago:20300322T103000
DTEND;TZID=America/Chicago:20300322T113000
LOCATION:Kindred City Hall
SUMMARY:Kindred Bone Builders
END:VEVENT
END:VCALENDAR
