BEGIN:VCALENDAR
VERSION:2.0
PRODID:-//communityofcarend.com//NONSGML kigkonsult.se iCalcreator 2.30.10/
 /
CALSCALE:GREGORIAN
METHOD:PUBLISH
UID:bfbc27c7-7de7-4a24-96bf-b5aebd37865a
X-WR-CALDESC:Bone Builder Exercise Class
X-WR-RELCALID:62cfbaa735aee1dd19b5c865e5ad99e3
X-WR-TIMEZONE:America/Chicago
BEGIN:VTIMEZONE
TZID:America/Chicago
BEGIN:STANDARD
TZNAME:CST
DTSTART:20291104T020000
TZOFFSETFROM:-0500
TZOFFSETTO:-0600
RDATE:20301103T020000
END:STANDARD
BEGIN:DAYLIGHT
TZNAME:CDT
DTSTART:20290311T020000
TZOFFSETFROM:-0600
TZOFFSETTO:-0500
RDATE:20300310T020000
RDATE:20310309T020000
END:DAYLIGHT
END:VTIMEZONE
BEGIN:VEVENT
UID:66c1d5ce-a62c-4fdb-87fb-ff30dd50f4bd
DTSTAMP:20260422T101824Z
DESCRIPTION:Bone Builder Exercise Class
DTSTART;TZID=America/Chicago:20300311T100000
DTEND;TZID=America/Chicago:20300311T110000
LOCATION:Horace Senior Center
SUMMARY:Horace Bone Builders
END:VEVENT
END:VCALENDAR
