BEGIN:VCALENDAR
VERSION:2.0
PRODID:-//communityofcarend.com//NONSGML kigkonsult.se iCalcreator 2.30.10/
 /
CALSCALE:GREGORIAN
METHOD:PUBLISH
UID:210ce08e-df76-4d08-867f-c73bd96d3ff0
X-WR-CALDESC:Low-impact exercise classes.
X-WR-RELCALID:3d09e8253a8c8b80462478c403505c07
X-WR-TIMEZONE:America/Chicago
BEGIN:VTIMEZONE
TZID:America/Chicago
BEGIN:STANDARD
TZNAME:CST
DTSTART:20291104T020000
TZOFFSETFROM:-0500
TZOFFSETTO:-0600
RDATE:20301103T020000
END:STANDARD
BEGIN:DAYLIGHT
TZNAME:CDT
DTSTART:20290311T020000
TZOFFSETFROM:-0600
TZOFFSETTO:-0500
RDATE:20300310T020000
RDATE:20310309T020000
END:DAYLIGHT
END:VTIMEZONE
BEGIN:VEVENT
UID:f1ad1b49-5831-49e3-9ecc-bbd292569f49
DTSTAMP:20260422T101703Z
DESCRIPTION:Low-impact exercise classes.
DTSTART;TZID=America/Chicago:20300301T103000
DTEND;TZID=America/Chicago:20300301T113000
LOCATION:Kindred City Hall
SUMMARY:Kindred Bone Builders
END:VEVENT
END:VCALENDAR
