BEGIN:VCALENDAR
VERSION:2.0
PRODID:-//communityofcarend.com//NONSGML kigkonsult.se iCalcreator 2.30.10/
 /
CALSCALE:GREGORIAN
METHOD:PUBLISH
UID:647829e8-dda9-4dec-bc2b-d228d632e756
X-WR-CALDESC:Low-impact exercise classes.
X-WR-RELCALID:8292bea98689ff59e4fca0ce29860b1e
X-WR-TIMEZONE:America/Chicago
BEGIN:VTIMEZONE
TZID:America/Chicago
BEGIN:STANDARD
TZNAME:CST
DTSTART:20291104T020000
TZOFFSETFROM:-0500
TZOFFSETTO:-0600
RDATE:20301103T020000
END:STANDARD
BEGIN:DAYLIGHT
TZNAME:CDT
DTSTART:20290311T020000
TZOFFSETFROM:-0600
TZOFFSETTO:-0500
RDATE:20300310T020000
RDATE:20310309T020000
END:DAYLIGHT
END:VTIMEZONE
BEGIN:VEVENT
UID:f3b9f21b-0765-4339-a18c-d614066ccdc7
DTSTAMP:20260422T084817Z
DESCRIPTION:Low-impact exercise classes.
DTSTART;TZID=America/Chicago:20300215T103000
DTEND;TZID=America/Chicago:20300215T113000
LOCATION:Kindred City Hall
SUMMARY:Kindred Bone Builders
END:VEVENT
END:VCALENDAR
