BEGIN:VCALENDAR
VERSION:2.0
PRODID:-//communityofcarend.com//NONSGML kigkonsult.se iCalcreator 2.30.10/
 /
CALSCALE:GREGORIAN
METHOD:PUBLISH
UID:3edfb164-319c-43a2-9fce-09b282b1b205
X-WR-CALDESC:Low impact exercise class
X-WR-RELCALID:f3db8016e0771462fc2fc35fd7cc6fa0
X-WR-TIMEZONE:America/Chicago
BEGIN:VTIMEZONE
TZID:America/Chicago
BEGIN:STANDARD
TZNAME:CST
DTSTART:20291104T020000
TZOFFSETFROM:-0500
TZOFFSETTO:-0600
RDATE:20301103T020000
END:STANDARD
BEGIN:DAYLIGHT
TZNAME:CDT
DTSTART:20290311T020000
TZOFFSETFROM:-0600
TZOFFSETTO:-0500
RDATE:20300310T020000
RDATE:20310309T020000
END:DAYLIGHT
END:VTIMEZONE
BEGIN:VEVENT
UID:197dd6d8-bfb3-48e2-be14-3650b5c8ab67
DTSTAMP:20260422T084741Z
DESCRIPTION:Low impact exercise class
DTSTART;TZID=America/Chicago:20300211T103000
DTEND;TZID=America/Chicago:20300211T113000
LOCATION:Kindred City Hall
SUMMARY:Kindred Bone Builders
END:VEVENT
END:VCALENDAR
