BEGIN:VCALENDAR
VERSION:2.0
PRODID:-//communityofcarend.com//NONSGML kigkonsult.se iCalcreator 2.30.10/
 /
CALSCALE:GREGORIAN
METHOD:PUBLISH
UID:6f2ad5d6-4e8f-411b-a815-a6dd6ddfaa1c
X-WR-CALDESC:Bone Builder Exercise Class
X-WR-RELCALID:ac9304eeef6e342fa5d5e836783863bd
X-WR-TIMEZONE:America/Chicago
BEGIN:VTIMEZONE
TZID:America/Chicago
BEGIN:STANDARD
TZNAME:CST
DTSTART:20291104T020000
TZOFFSETFROM:-0500
TZOFFSETTO:-0600
RDATE:20301103T020000
END:STANDARD
BEGIN:DAYLIGHT
TZNAME:CDT
DTSTART:20290311T020000
TZOFFSETFROM:-0600
TZOFFSETTO:-0500
RDATE:20300310T020000
RDATE:20310309T020000
END:DAYLIGHT
END:VTIMEZONE
BEGIN:VEVENT
UID:b585a309-9a17-4199-8bab-2d61b34ca964
DTSTAMP:20260422T085130Z
DESCRIPTION:Bone Builder Exercise Class
DTSTART;TZID=America/Chicago:20300211T100000
DTEND;TZID=America/Chicago:20300211T110000
LOCATION:Horace Senior Center
SUMMARY:Horace Bone Builders
END:VEVENT
END:VCALENDAR
